BEGIN:VCALENDAR
VERSION:2.0
PRODID:-//newclient.nandanikgroup.com - ECPv6.15.20//NONSGML v1.0//EN
CALSCALE:GREGORIAN
METHOD:PUBLISH
X-WR-CALNAME:newclient.nandanikgroup.com
X-ORIGINAL-URL:https://newclient.nandanikgroup.com
X-WR-CALDESC:Events for newclient.nandanikgroup.com
REFRESH-INTERVAL;VALUE=DURATION:PT1H
X-Robots-Tag:noindex
X-PUBLISHED-TTL:PT1H
BEGIN:VTIMEZONE
TZID:UTC
BEGIN:STANDARD
TZOFFSETFROM:+0000
TZOFFSETTO:+0000
TZNAME:UTC
DTSTART:20250101T000000
END:STANDARD
END:VTIMEZONE
BEGIN:VEVENT
DTSTART;VALUE=DATE:20260430
DTEND;VALUE=DATE:20260501
DTSTAMP:20260422T100242
CREATED:20260418T112348Z
LAST-MODIFIED:20260418T112348Z
UID:729-1777507200-1777593599@newclient.nandanikgroup.com
SUMMARY:Sunrise Rooftop Yoga Session
DESCRIPTION:Reconnect your mind\, body\, and soul with our refreshing Sunrise Yoga Session at Jafran Rooftop. Led by an experienced instructor\, this session is designed for all levels—from beginners to advanced practitioners. \nFeel the calm morning breeze\, enjoy gentle stretching\, breathing exercises\, and guided meditation as the sun rises. It’s the perfect way to reduce stress\, improve flexibility\, and boost your energy for the day ahead. \nWhether you’re new to yoga or a regular practitioner\, this session will leave you feeling refreshed\, focused\, and recharged.
URL:https://newclient.nandanikgroup.com/event/sunrise-rooftop-yoga-session/
LOCATION:madrid\, madrid\, madrid\, Spain
ATTACH;FMTTYPE=image/jpeg:https://newclient.nandanikgroup.com/wp-content/uploads/2026/04/WPWRAEW.jpg
END:VEVENT
END:VCALENDAR