BEGIN:VCALENDAR
VERSION:2.0
PRODID:-//newclient.nandanikgroup.com - ECPv6.15.20//NONSGML v1.0//EN
CALSCALE:GREGORIAN
METHOD:PUBLISH
X-WR-CALNAME:newclient.nandanikgroup.com
X-ORIGINAL-URL:https://newclient.nandanikgroup.com
X-WR-CALDESC:Events for newclient.nandanikgroup.com
REFRESH-INTERVAL;VALUE=DURATION:PT1H
X-Robots-Tag:noindex
X-PUBLISHED-TTL:PT1H
BEGIN:VTIMEZONE
TZID:UTC
BEGIN:STANDARD
TZOFFSETFROM:+0000
TZOFFSETTO:+0000
TZNAME:UTC
DTSTART:20250101T000000
END:STANDARD
END:VTIMEZONE
BEGIN:VEVENT
DTSTART;VALUE=DATE:20260529
DTEND;VALUE=DATE:20260530
DTSTAMP:20260422T094852
CREATED:20260418T093040Z
LAST-MODIFIED:20260418T093040Z
UID:672-1780012800-1780099199@newclient.nandanikgroup.com
SUMMARY:Test
DESCRIPTION:I read it. This article is basically showing 4 different WooCommerce + Event Tickets Plus customizations using PHP snippets. I’ll explain it in a simple “what to do step-by-step” way so you can actually apply it on your WordPress site.
URL:https://newclient.nandanikgroup.com/event/test/
LOCATION:madrid\, madrid\, madrid\, Spain
ATTACH;FMTTYPE=image/jpeg:https://newclient.nandanikgroup.com/wp-content/uploads/2026/04/3EDV8ZE.jpg
END:VEVENT
END:VCALENDAR